{"text_format":"3","workbook":"xlsx","n_sheets":5,"sheets":["27.01","28.01","29.01","30.01","31.01"],"read":"whole","date_system":"1900"}

{"sheet":"27.01","index":0,"n_rows":37,"n_cols":9,"rows_kept":37,"merged":[[1,0,1,2]]}
[]
["МБОУ \"СОШ №33\" НМР РТ",null,null,"Отд./корп","1 неделя",null,null,"День","2025-01-27"]
[]
["Раздел","№ рец.","Блюдо","Выход, г","Цена","Ккал","Белки","Жиры","Угл-ды"]
["Завтрак"]
[null,1,"Бутерброд с маслом сливочным",40,null,{"v":136,"d":"136.00"},2.36,7.49,14.89]
["2 блюдо",175,"Каша \"Дружба\" молочная ",200,null,258.12,11.44,10.16,27.23]
["гор.напиток",378,"Чай с сахаром ",200,null,{"v":32,"d":"32.00"},0.07,0.02,{"v":8,"d":"8.00"}]
["хлеб",null,"Батон нарезной",60,null,{"v":157.2,"d":"157.20"},{"v":4.5,"d":"4.50"},1.74,30.84]
[{"$nulls":3},500,null,{"$f":"SUM(F6:F9)","v":{"v":583.3199999999999,"d":"583.32"}},{"$f":"SUM(G6:G9)","v":{"v":18.369999999999997,"d":"18.37"}},{"v":19.409999999999997,"d":"19.41"},{"v":80.96000000000001,"d":"80.96"}]
["Обед "]
["1 блюдо",88,"Щи из свежей капусты с картофелем, со сметаной","200/5",null,{"v":153.9,"d":"153.90"},7.54,11.91,{"v":6.5,"d":"6.50"}]
["2 блюдо",757,"Котлеты Домашние с гречкой","90",null,{"v":248,"d":"248.00"},8.01,11.14,35.71]
["гарнир",303,"Макаронные отварные с маслом сливочным","150/3",null,{"v":176.1,"d":"176.10"},5.68,2.88,31.96]
["напиток",349,"Напиток из сухофруктов",200,null,{"v":92.9,"d":"92.90"},{"v":0.7,"d":"0.70"},{"v":0.1,"d":"0.10"},22.03]
["хлеб",null,"Хлеб пшеничный/ ржаной","25/30",null,118.15,3.88,0.56,24.18]
[{"$nulls":3},703,null,{"$f":"SUM(F12:F16)","v":789.05},{"$f":"SUM(G12:G16)","v":25.81},26.59,120.38]
[null,null,"бесп питание младшие + допол. питание",{"$f":"SUM(D10+D17)","v":1203},126.99,1372.37,{"$f":"SUM(G10+G17)","v":{"v":44.17999999999999,"d":"44.18"}},{"v":46,"d":"46.00"},201.34]
[]
["Горячий завтрак (младшие)"]
[null,17,"Сыр порционно",10,null,34.33,2.63,2.66,{"v":0,"d":"0.00"}]
["2 блюдо",757,"Котлеты Домашние с гречкой","90",null,{"v":248,"d":"248.00"},8.01,11.14,35.71]
["гарнир",303,"Макаронные отварные с маслом сливочным","150/3",null,{"v":191.2,"d":"191.20"},{"v":5.9,"d":"5.90"},4.58,31.96]
["гор.напиток",378,"Чай без сахара",200,null,{"v":2.8,"d":"2.80"},{"v":0.4,"d":"0.40"},{"v":0.1,"d":"0.10"},0.01]
["хлеб",null,"Хлеб пшеничный/ ржаной","20/25",null,{"v":96.5,"d":"96.50"},3.17,0.46,19.74]
[]
[null,null,"бесплатное питание младшие",500,83.89,{"$f":"F21+F22+F23+F24+F25+F26","v":{"v":572.8299999999999,"d":"572.83"}},{"$f":"G21+G22+G23+G24+G25+G26","v":20.11},{"$f":"H21+H22+H23+H24+H25+H26","v":{"v":18.940000000000005,"d":"18.94"}},{"$f":"I21+I22+I23+I24+I25+I26","v":87.42}]
[]
["Раздел","№ рец.","Блюдо","Выход, г","Цена","Ккал","Белки","Жиры","Угл-ды"]
["Старшие"]
[null,757,"Котлеты Домашние с гречкой",100,null,275.55,{"v":8.9,"d":"8.90"},12.37,37.67]
["2 блюдо",303,"Макаронные отварные с маслом сливочным","180/3",null,241.94,9.64,{"v":7.6,"d":"7.60"},33.35]
["гарнир",523,"Свекла отварная доп.гарнир",30,null,27.84,0.42,{"v":1.8,"d":"1.80"},2.48]
["гор.напиток",378,"Чай с сахаром ",200,null,{"v":32,"d":"32.00"},0.07,0.02,{"v":8,"d":"8.00"}]
["хлеб",null,"Хлеб пшеничный/ ржаной","20/20",null,{"v":86.6,"d":"86.60"},2.84,{"v":0.4,"d":"0.40"},17.76]
[]
[null,null,"питание старшие",553,87.18,{"$f":"SUM(F31:F35)","v":{"v":663.9300000000001,"d":"663.93"}},{"$f":"SUM(G31:G35)","v":21.87},{"v":22.189999999999998,"d":"22.19"},{"v":99.26000000000002,"d":"99.26"}]

{"sheet":"28.01","index":1,"n_rows":38,"n_cols":9,"rows_kept":38,"merged":[[1,0,1,2]]}
[]
["МБОУ \"СОШ №33\" НМР РТ",null,null,"Отд./корп","1 неделя",null,null,"День","2025-01-28"]
[]
["Раздел","№ рец.","Блюдо","Выход, г","Цена","Ккал","Белки","Жиры","Угл-ды"]
["Завтрак"]
["хлеб",965,"Бутерброд с повидлом",50,null,{"v":209,"d":"209.00"},7.05,{"v":2.3,"d":"2.30"},{"v":16.8,"d":"16.80"}]
["2 блюдо",173,"Каша гречневая молочная вязкая ",200,null,206.46,5.92,12.59,35.42]
["гор.напиток",379,"Кофейный напиток с молоком",200,null,{"v":60.1,"d":"60.10"},3.17,2.68,9.98]
["хлеб",null,"Батон нарезной",50,null,{"v":131,"d":"131.00"},3.75,1.45,{"v":25.7,"d":"25.70"}]
[{"$nulls":3},500,null,{"$f":"SUM(F6:F9)","v":{"v":606.5600000000001,"d":"606.56"}},{"$f":"SUM(G6:G9)","v":19.89},19.02,{"v":87.9,"d":"87.90"}]
["Обед "]
[]
["1 блюдо",96,"Рассольник Ленинградский со сметаной","200/5",null,{"v":93.9,"d":"93.90"},5.94,6.82,12.56]
["2 блюдо",130,"Биточки куриные Солнышко",90,null,183.45,6.01,11.53,12.88]
["гарнир",303,"Каша пшеничная вязкая с маслом сливочным","150/3",null,{"v":227,"d":"227.00"},{"v":6.7,"d":"6.70"},4.38,35.99]
["напиток",555,"Напиток из изюма и яблок",200,null,68.12,{"v":0.2,"d":"0.20"},{"v":0.1,"d":"0.10"},19.82]
["хлеб",null,"Хлеб ржаной/пшеничный","30/25",null,118.15,3.88,0.56,24.18]
[{"$nulls":3},703,null,{"$f":"SUM(F12:F17)","v":690.62},{"$f":"SUM(G12:G17)","v":{"v":22.729999999999997,"d":"22.73"}},{"$f":"SUM(H12:H17)","v":23.39},{"$f":"SUM(I12:I17)","v":105.43}]
[null,null,"бесп питание младшие + допол. питание",{"$f":"D10+D18","v":1203},{"$f":"'27.01'!E18","v":126.99},{"$f":"SUM(F10+F18)","v":1297.18},{"$f":"SUM(G10+G18)","v":42.62},{"$f":"SUM(H10+H18)","v":42.41},{"$f":"SUM(I10+I18)","v":193.33}]
[]
["Горячий завтрак (младшие)"]
[]
["2 блюдо",130,"Биточки куриные Солнышко",90,null,183.45,6.01,11.53,12.88]
["гарнир",303,"Каша пшеничная вязкая с маслом сливочным","150/3",null,{"v":227,"d":"227.00"},{"v":6.7,"d":"6.70"},4.38,35.99]
["гор.напиток",379,"Кофейный напиток с молоком",200,null,{"v":60.1,"d":"60.10"},3.17,2.68,9.98]
["хлеб",null,"Хлеб ржаной/пшеничный","30/30",null,{"v":129.9,"d":"129.90"},4.26,{"v":0.6,"d":"0.60"},26.64]
[]
[null,null,"бесплатное питание младшие",503,{"$f":"'27.01'!E27","v":83.89},{"$f":"SUM(F22:F27)","v":600.45},{"$f":"SUM(G22:G27)","v":20.14},19.19,{"v":85.49000000000001,"d":"85.49"}]
[]
["Раздел","№ рец.","Блюдо","Выход, г","Цена","Ккал","Белки","Жиры","Угл-ды"]
["Старшие"]
["2 блюдо",130,"Биточки куриные Солнышко",100,null,{"v":203.8,"d":"203.80"},6.67,12.81,{"v":14.3,"d":"14.30"}]
["гарнир",303,"Каша пшеничная вязкая с маслом сливочным","180/3",null,{"v":247,"d":"247.00"},{"v":7.7,"d":"7.70"},7.27,36.59]
["гор.напиток",379,"Кофейный напиток с молоком",200,null,{"v":60.1,"d":"60.10"},3.17,2.68,9.98]
["хлеб",null,"Хлеб ржаной/пшеничный","40/30",null,{"v":147.7,"d":"147.70"},4.92,0.72,{"v":30.6,"d":"30.60"}]
[]
[]
[null,null,"питание старшие",553,{"$f":"'27.01'!E37","v":87.18},{"$f":"SUM(F32:F36)","v":{"v":658.6,"d":"658.60"}},{"$f":"SUM(G32:G36)","v":22.46},{"v":23.479999999999997,"d":"23.48"},91.47]

{"sheet":"29.01","index":2,"n_rows":35,"n_cols":9,"rows_kept":35,"merged":[[1,0,1,2]]}
[]
["МБОУ \"СОШ №33\" НМР РТ",null,null,"Отд./корп","1 неделя",null,null,"День","2025-01-29"]
[]
["Раздел","№ рец.","Блюдо","Выход, г","Цена","Ккал","Белки","Жиры","Угл-ды"]
["Завтрак"]
["Фрукты",null,"Фрукты (яблоки)",100,null,{"v":47,"d":"47.00"},{"v":0.4,"d":"0.40"},{"v":0.4,"d":"0.40"},{"v":9.8,"d":"9.80"}]
["2 блюдо",173,"Каша молочная пшенная",150,null,{"v":236,"d":"236.00"},{"v":10.6,"d":"10.60"},13.52,23.68]
["гор.напиток",377,"Чай с сахаром и лимоном",200,null,34.02,0.13,0.02,{"v":8.2,"d":"8.20"}]
["хлеб",null,"Батон нарезной",50,null,{"v":131,"d":"131.00"},3.75,1.45,{"v":25.7,"d":"25.70"}]
[{"$nulls":3},500,null,{"$f":"SUM(F6:F9)","v":448.02},{"$f":"SUM(G6:G9)","v":14.88},{"$f":"SUM(H6:H9)","v":{"v":15.389999999999999,"d":"15.39"}},{"$f":"SUM(I6:I9)","v":{"v":67.38000000000001,"d":"67.38"}}]
["Обед "]
["1 блюдо",113,"Суп лапша домашняя с картофелем",200,null,{"v":92.4,"d":"92.40"},4.35,4.83,{"v":29.3,"d":"29.30"}]
["2 блюдо",291,"Плов из куриной грудки ","200",null,{"v":390.5,"d":"390.50"},15.42,17.96,38.93]
["холод.закуска",10,"Горошек консервированный (доп.гарнир)",40,null,53.52,1.09,2.87,5.82]
["напиток",388,"Напиток из плодов шиповника",200,null,{"v":123.6,"d":"123.60"},{"v":0.6,"d":"0.60"},{"v":0.1,"d":"0.10"},{"v":20.2,"d":"20.20"}]
["хлеб",null,"Хлеб ржаной/пшеничный","30/30",null,{"v":129.9,"d":"129.90"},4.26,{"v":0.6,"d":"0.60"},26.64]
[{"$nulls":3},700,null,{"$f":"SUM(F12:F16)","v":789.92},{"$f":"SUM(G12:G16)","v":25.72},{"$f":"SUM(H12:H16)","v":{"v":26.360000000000003,"d":"26.36"}},{"$f":"SUM(I12:I16)","v":{"v":120.89000000000001,"d":"120.89"}}]
[null,null,"бесп питание младшие + допол. питание",{"$f":"SUM(D10+D17)","v":1200},{"$f":"'28.01'!E19","v":126.99},1237.94,{"v":40.6,"d":"40.60"},41.75,{"v":188.27000000000004,"d":"188.27"}]
[]
["Горячий завтрак (младшие)"]
["Фрукты",null,"Фрукты (яблоки)",100,null,{"v":47,"d":"47.00"},{"v":0.4,"d":"0.40"},{"v":0.4,"d":"0.40"},{"v":9.8,"d":"9.80"}]
["2 блюдо",291,"Плов из куриной грудки ","200",null,{"v":390.5,"d":"390.50"},15.42,17.96,38.93]
["гор.напиток",377,"Чай с сахаром и лимоном",200,null,34.02,0.13,0.02,{"v":8.2,"d":"8.20"}]
["хлеб",null,"Хлеб ржаной/пшеничный","20/30",null,{"v":110.1,"d":"110.10"},{"v":3.6,"d":"3.60"},0.48,22.68]
[]
[null,null,"бесплатное питание младшие",550,{"$f":"'28.01'!E28","v":83.89},{"$f":"SUM(F21:F25)","v":581.62},{"$f":"SUM(G21:G25)","v":19.55},18.86,{"v":79.61000000000001,"d":"79.61"}]
[]
["Раздел","№ рец.","Блюдо","Выход, г","Цена","Ккал","Белки","Жиры","Угл-ды"]
["Старшие"]
["Фрукты",null,"Фрукты (яблоки)",100,null,{"v":47,"d":"47.00"},{"v":0.4,"d":"0.40"},{"v":0.4,"d":"0.40"},{"v":9.8,"d":"9.80"}]
["2 блюдо",291,"Плов из куриной грудки ",250,null,521.12,19.57,22.45,60.06]
["гор.напиток",377,"Чай с сахаром и лимоном",200,null,34.02,0.13,0.02,{"v":8.2,"d":"8.20"}]
["хлеб",null,"Хлеб пшеничный",30,null,{"v":70.5,"d":"70.50"},2.28,0.24,14.76]
[]
[null,null,"питание старшие",580,{"$f":"'28.01'!E38","v":87.18},{"$f":"SUM(F30:F33)","v":672.64},{"$f":"SUM(G30:G33)","v":22.38},{"$f":"SUM(H30:H33)","v":{"v":23.109999999999996,"d":"23.11"}},{"$f":"SUM(I30:I33)","v":{"v":92.82000000000001,"d":"92.82"}}]

{"sheet":"30.01","index":3,"n_rows":34,"n_cols":9,"rows_kept":34,"merged":[[1,0,1,2]]}
[]
["МБОУ \"СОШ №33\" НМР РТ",null,null,"Отд./корп","1 неделя",null,null,"День","2025-01-30"]
[]
["Раздел","№ рец.","Блюдо","Выход, г","Цена","Ккал","Белки","Жиры","Угл-ды"]
["Завтрак"]
["хлеб",3,"Бутерброд с сыром и маслом сливочным",50,null,{"v":155,"d":"155.00"},6.27,7.86,14.83]
["2 блюдо",173,"Каша геркулесовая молочная вязкая с маслом сливочным","180/5",null,{"v":206.3,"d":"206.30"},4.99,{"v":7.4,"d":"7.40"},28.81]
["гор.напиток",382,"Какао с молоком",200,null,{"v":58.6,"d":"58.60"},4.08,3.54,2.61]
["хлеб",null,"Батон нарезной",65,null,{"v":170.3,"d":"170.30"},4.87,1.88,33.41]
[{"$nulls":3},500,null,{"$f":"SUM(F6:F9)","v":{"v":590.2,"d":"590.20"}},{"$f":"SUM(G6:G9)","v":20.21},{"$f":"SUM(H6:H9)","v":20.68},{"$f":"SUM(I6:I9)","v":79.66}]
["Обед "]
["1 блюдо",82,"Борщ из свежей капусты с картофелем",250,null,133.75,{"v":2.8,"d":"2.80"},6.92,16.93]
["2 блюдо",294,"Овощи тушеные с мясом",200,null,374.45,14.05,15.97,{"v":32.8,"d":"32.80"}]
["напиток",388,"Напиток из урюка",200,null,68.52,0.75,0.06,15.95]
["хлеб",null,"Хлеб ржаной/пшеничный","40/30",null,{"v":149.7,"d":"149.70"},4.92,0.72,{"v":30.6,"d":"30.60"}]
[]
[{"$nulls":3},720,null,{"$f":"SUM(F12:F16)","v":{"v":726.4200000000001,"d":"726.42"}},{"$f":"SUM(G12:G16)","v":{"v":22.520000000000003,"d":"22.52"}},{"$f":"SUM(H12:H16)","v":{"v":23.669999999999998,"d":"23.67"}},{"$f":"SUM(I12:I16)","v":96.28}]
[null,null,"бесп питание младшие + допол. питание",{"$f":"D10+D17","v":1220},{"$f":"'29.01'!E18","v":126.99},{"$f":"SUM(F10+F17)","v":{"v":1316.6200000000001,"d":"1316.62"}},{"$f":"SUM(G10+G17)","v":{"v":42.730000000000004,"d":"42.73"}},{"$f":"SUM(H10+H17)","v":{"v":44.349999999999994,"d":"44.35"}},{"$f":"SUM(I10+I17)","v":175.94}]
[]
["Горячий завтрак (младшие)"]
["холод.закуска",15,"Капуста квашеная доп.гарнир",50,null,42.85,0.85,{"v":2.5,"d":"2.50"},4.22]
["2 блюдо",294,"Овощи тушеные с мясом",200,null,374.45,14.05,15.97,{"v":32.8,"d":"32.80"}]
["напиток",388,"Напиток из урюка",200,null,68.52,0.75,0.06,15.95]
["хлеб",null,"Хлеб ржаной/пшеничный","30/30",null,{"v":129.9,"d":"129.90"},4.26,{"v":0.6,"d":"0.60"},26.64]
[]
[null,null,"бесплатное питание младшие",510,{"$f":"'29.01'!E26","v":83.89},{"$f":"SUM(F21:F24)","v":615.72},{"$f":"SUM(G21:G24)","v":19.91},{"$f":"SUM(H21:H24)","v":19.13},{"$f":"SUM(I21:I24)","v":79.61}]
[]
["Раздел","№ рец.","Блюдо","Выход, г","Цена","Ккал","Белки","Жиры","Угл-ды"]
["Старшие"]
["холод.закуска",15,"Салат из квашеной капусты",100,null,{"v":85.7,"d":"85.70"},{"v":1.7,"d":"1.70"},{"v":4.8,"d":"4.80"},8.46]
["2 блюдо",294,"Овощи тушеные с мясом",250,null,{"v":507.5,"d":"507.50"},{"v":18.8,"d":"18.80"},19.96,{"v":56,"d":"56.00"}]
["напиток",388,"Напиток из урюка",200,null,68.52,0.75,0.06,15.95]
["хлеб",null,"Хлеб пшеничный/ ржаной","20/20",null,{"v":86.6,"d":"86.60"},2.84,{"v":0.4,"d":"0.40"},17.76]
[null,null,"питание старшие",590,{"$f":"'29.01'!E35","v":87.18},{"$f":"SUM(F30:F33)","v":748.32},{"$f":"SUM(G30:G33)","v":24.09},{"$f":"SUM(H30:H33)","v":25.22},{"$f":"SUM(I30:I33)","v":{"v":98.17000000000002,"d":"98.17"}}]

{"sheet":"31.01","index":4,"n_rows":33,"n_cols":9,"rows_kept":33,"merged":[[1,0,1,2]]}
[]
["МБОУ \"СОШ №33\" НМР РТ",null,null,"Отд./корп","1 неделя",null,null,"День","2025-01-31"]
[]
["Раздел","№ рец.","Блюдо","Выход, г","Цена","Ккал","Белки","Жиры","Угл-ды"]
["Завтрак"]
["Фрукты",null,"Фрукты (яблоки)",100,null,{"v":47,"d":"47.00"},{"v":0.4,"d":"0.40"},{"v":0.4,"d":"0.40"},{"v":9.8,"d":"9.80"}]
["2 блюдо",761,"Сырники из творога со сгущенкой","120/30",null,398.93,15.55,18.35,36.06]
["гор.напиток",376,"Чай с сахаром ",200,null,{"v":32,"d":"32.00"},0.07,0.02,{"v":8,"d":"8.00"}]
["хлеб",null,"Батон нарезной",50,null,{"v":131,"d":"131.00"},3.75,1.45,{"v":25.7,"d":"25.70"}]
[{"$nulls":3},500,null,{"$f":"SUM(F6:F9)","v":{"v":608.9300000000001,"d":"608.93"}},{"$f":"SUM(G6:G9)","v":19.77},{"$f":"SUM(H6:H9)","v":20.22},{"$f":"SUM(I6:I9)","v":79.56}]
["Обед "]
["1 блюдо",102,"Суп картофельный с горохом",200,null,{"v":218.6,"d":"218.60"},4.35,5.22,26.53]
["2 блюдо",966,"Сосиска с томатным соусом, с кашей гречневой","250",null,{"v":326.7,"d":"326.70"},13.62,17.31,39.57]
["напиток",342,"Компот из свежих яблок",200,null,{"v":46.6,"d":"46.60"},0.16,0.16,10.91]
["хлеб",null,"Хлеб ржаной/пшеничный","30/30",null,{"v":129.9,"d":"129.90"},4.26,{"v":0.6,"d":"0.60"},26.64]
[]
[{"$nulls":3},703,null,{"$f":"SUM(F12:F16)","v":{"v":721.8,"d":"721.80"}},{"$f":"SUM(G12:G16)","v":22.39},{"$f":"SUM(H12:H16)","v":23.29},{"$f":"SUM(I12:I16)","v":{"v":103.64999999999999,"d":"103.65"}}]
[null,null,"бесп питание младшие + допол. питание",{"$f":"D10+D17","v":1203},{"$f":"'30.01'!E18","v":126.99},{"$f":"SUM(F10+F17)","v":1330.73},{"$f":"SUM(G10+G17)","v":42.16},{"$f":"SUM(H10+H17)","v":43.51},{"$f":"SUM(I10+I17)","v":{"v":183.20999999999998,"d":"183.21"}}]
[]
["Горячий завтрак (младшие)"]
["Фрукты",null,"Фрукты (яблоки)",100,null,{"v":47,"d":"47.00"},{"v":0.4,"d":"0.40"},{"v":0.4,"d":"0.40"},{"v":9.8,"d":"9.80"}]
["2 блюдо",761,"Сырники из творога со сгущенкой","120/30",null,398.93,15.55,18.35,36.03]
["гор.напиток",376,"Чай с сахаром ",200,null,{"v":32,"d":"32.00"},0.07,0.02,{"v":8,"d":"8.00"}]
["хлеб",null,"Хлеб ржаной/пшеничный","30/30",null,{"v":129.9,"d":"129.90"},4.18,{"v":0.6,"d":"0.60"},26.64]
[null,null,"бесплатное питание младшие",510,{"$f":"'30.01'!E26","v":83.89},{"$f":"SUM(F21:F24)","v":607.83},{"$f":"SUM(G21:G24)","v":{"v":20.2,"d":"20.20"}},19.37,80.47]
[]
["Раздел","№ рец.","Блюдо","Выход, г","Цена","Ккал","Белки","Жиры","Угл-ды"]
["Старшие"]
["Фрукты",null,"Фрукты (яблоки)",100,null,{"v":47,"d":"47.00"},{"v":0.4,"d":"0.40"},{"v":0.4,"d":"0.40"},{"v":9.8,"d":"9.80"}]
["2 блюдо",290,"Запеканка из творога с повидлом","200",null,{"v":502.8,"d":"502.80"},19.63,22.18,{"v":51.5,"d":"51.50"}]
["гор.напиток",376,"Чай с сахаром",200,null,{"v":32,"d":"32.00"},0.07,0.02,{"v":8,"d":"8.00"}]
["хлеб",null,"Хлеб пшеничный/ржаной","20/30",null,{"v":106.4,"d":"106.40"},{"v":3.5,"d":"3.50"},0.52,21.72]
[null,null,"питание старшие",550,{"$f":"'30.01'!E34","v":87.18},{"$f":"SUM(F29:F32)","v":{"v":688.1999999999999,"d":"688.20"}},{"$f":"SUM(G29:G32)","v":{"v":23.599999999999998,"d":"23.60"}},{"v":23.119999999999997,"d":"23.12"},91.02]